BEGIN:VCALENDAR
VERSION:2.0
PRODID:-//GLWA - ECPv6.15.20//NONSGML v1.0//EN
CALSCALE:GREGORIAN
METHOD:PUBLISH
X-WR-CALNAME:GLWA
X-ORIGINAL-URL:https://www.glwater.org
X-WR-CALDESC:Events for GLWA
REFRESH-INTERVAL;VALUE=DURATION:PT1H
X-Robots-Tag:noindex
X-PUBLISHED-TTL:PT1H
BEGIN:VTIMEZONE
TZID:America/Halifax
BEGIN:DAYLIGHT
TZOFFSETFROM:-0400
TZOFFSETTO:-0300
TZNAME:ADT
DTSTART:20250309T060000
END:DAYLIGHT
BEGIN:STANDARD
TZOFFSETFROM:-0300
TZOFFSETTO:-0400
TZNAME:AST
DTSTART:20251102T050000
END:STANDARD
BEGIN:DAYLIGHT
TZOFFSETFROM:-0400
TZOFFSETTO:-0300
TZNAME:ADT
DTSTART:20260308T060000
END:DAYLIGHT
BEGIN:STANDARD
TZOFFSETFROM:-0300
TZOFFSETTO:-0400
TZNAME:AST
DTSTART:20261101T050000
END:STANDARD
BEGIN:DAYLIGHT
TZOFFSETFROM:-0400
TZOFFSETTO:-0300
TZNAME:ADT
DTSTART:20270314T060000
END:DAYLIGHT
BEGIN:STANDARD
TZOFFSETFROM:-0300
TZOFFSETTO:-0400
TZNAME:AST
DTSTART:20271107T050000
END:STANDARD
END:VTIMEZONE
BEGIN:VEVENT
DTSTART;TZID=America/Halifax:20260708T130000
DTEND;TZID=America/Halifax:20260708T170000
DTSTAMP:20260419T104546
CREATED:20251001T194927Z
LAST-MODIFIED:20251001T194927Z
UID:8871-1783515600-1783530000@www.glwater.org
SUMMARY:Board of Directors Workshop
DESCRIPTION:Click Here to View Agenda: \n  \nJoin Zoom Meeting: \nhttps://glwater.zoom.us/j/82252530461?pwd=VEK3pBOZgUJbRyfQJiWyGVSCakjbu4.1 \nMeeting ID: 822 5253 0461 \nPasscode: 070633 \n  \nJoin by Phone: \n\n877 853 5247 US Toll-free\n888 788 0099 US Toll-free\n\nMeeting ID: 822 5253 0461 \nPasscode: 070633
URL:https://www.glwater.org/event/board-of-directors-workshop-106/
LOCATION:Zoom Telephonic
CATEGORIES:Board of Directors
END:VEVENT
BEGIN:VEVENT
DTSTART;TZID=America/Halifax:20260722T130000
DTEND;TZID=America/Halifax:20260722T140000
DTSTAMP:20260419T104546
CREATED:20251003T182916Z
LAST-MODIFIED:20251003T182948Z
UID:8952-1784725200-1784728800@www.glwater.org
SUMMARY:Legal Committee
DESCRIPTION:Click Here to View Agenda: \n  \nJoin Zoom Meeting: \nhttps://glwater.zoom.us/j/86982735514?pwd=flHTxBemiUgT3D8CQTIfje5UdFyZto.1 \nMeeting ID: 869 8273 5514 \nPasscode: 958441 \n  \nJoin by Phone: \n\n888 788 0099 US Toll-free\n877 853 5247 US Toll-free\n\nMeeting ID: 869 8273 5514 \nPasscode: 958441
URL:https://www.glwater.org/event/legal-committee-92/
LOCATION:Zoom Telephonic
CATEGORIES:Legal Committee
END:VEVENT
BEGIN:VEVENT
DTSTART;TZID=America/Halifax:20260724T080000
DTEND;TZID=America/Halifax:20260724T100000
DTSTAMP:20260419T104546
CREATED:20251121T184509Z
LAST-MODIFIED:20251121T184538Z
UID:9089-1784880000-1784887200@www.glwater.org
SUMMARY:Audit Committee
DESCRIPTION:Click Here to View Agenda: \n  \nJoin Zoom Meeting: \nhttps://glwater.zoom.us/j/88050875062?pwd=cNDFCxufxeIShTGoYhyagq52BRzW0Z.1 \nMeeting ID: 880 5087 5062 \nPasscode: 173900 \n  \nJoin by Phone: \n\n877 853 5247 US Toll-free\n888 788 0099 US Toll-free\n\nMeeting ID: 880 5087 5062 \nPasscode: 173900
URL:https://www.glwater.org/event/audit-committee-107/
LOCATION:Zoom Telephonic
CATEGORIES:Audit Committee
END:VEVENT
BEGIN:VEVENT
DTSTART;TZID=America/Halifax:20260812T110000
DTEND;TZID=America/Halifax:20260812T130000
DTSTAMP:20260419T104546
CREATED:20251003T173556Z
LAST-MODIFIED:20251003T173556Z
UID:8929-1786532400-1786539600@www.glwater.org
SUMMARY:Operations and Resources
DESCRIPTION:Click Here to View Agenda: \n  \nJoin Zoom Meeting: \nhttps://glwater.zoom.us/j/88168309041?pwd=MjjUxavKh5tpyeubZYg0zNWDWXsEen.1 \nMeeting ID: 881 6830 9041 \nPasscode: 616496 \n  \nJoin by Phone: \n\n888 788 0099 US Toll-free\n877 853 5247 US Toll-free\n\nMeeting ID: 881 6830 9041 \nPasscode: 616496
URL:https://www.glwater.org/event/operations-and-resources-40/
LOCATION:Zoom Telephonic
CATEGORIES:Operations and Resources Committee
END:VEVENT
BEGIN:VEVENT
DTSTART;TZID=America/Halifax:20260812T130000
DTEND;TZID=America/Halifax:20260812T170000
DTSTAMP:20260419T104546
CREATED:20251001T195525Z
LAST-MODIFIED:20251001T195525Z
UID:8875-1786539600-1786554000@www.glwater.org
SUMMARY:Board of Directors Workshop
DESCRIPTION:Click Here to View Agenda: \n  \nJoin Zoom Meeting: \nhttps://glwater.zoom.us/j/86109106061?pwd=hHZOx7tB63enTld1VzIPwjNoR4OfN2.1 \nMeeting ID: 861 0910 6061 \nPasscode: 588495 \n  \nJoin by Phone: \n\n877 853 5247 US Toll-free\n888 788 0099 US Toll-free\n\nMeeting ID: 861 0910 6061 \nPasscode: 588495
URL:https://www.glwater.org/event/board-of-directors-workshop-107/
LOCATION:Zoom Telephonic
CATEGORIES:Board of Directors
END:VEVENT
BEGIN:VEVENT
DTSTART;TZID=America/Halifax:20260826T130000
DTEND;TZID=America/Halifax:20260826T140000
DTSTAMP:20260419T104546
CREATED:20251003T183230Z
LAST-MODIFIED:20251003T183230Z
UID:8954-1787749200-1787752800@www.glwater.org
SUMMARY:Legal Committee
DESCRIPTION:Click Here to View Agenda: \n  \nJoin Zoom Meeting: \nhttps://glwater.zoom.us/j/87158836239?pwd=y6iB4za27YnyOoUOVeEtPQ7OFXVc67.1 \nMeeting ID: 871 5883 6239 \nPasscode: 106509 \n  \nJoin by Phone: \n\n888 788 0099 US Toll-free\n877 853 5247 US Toll-free\n\nMeeting ID: 871 5883 6239 \nPasscode: 106509
URL:https://www.glwater.org/event/legal-committee-93/
LOCATION:Zoom Telephonic
CATEGORIES:Legal Committee
END:VEVENT
BEGIN:VEVENT
DTSTART;TZID=America/Halifax:20260828T080000
DTEND;TZID=America/Halifax:20260828T100000
DTSTAMP:20260419T104546
CREATED:20251121T184829Z
LAST-MODIFIED:20251121T185101Z
UID:9091-1787904000-1787911200@www.glwater.org
SUMMARY:Audit Committee
DESCRIPTION:Click Here to View Agenda: \n  \nJoin Zoom Meeting: \nhttps://glwater.zoom.us/j/82764564496?pwd=BACdiUtlglL6IAIV6rVeWFoGNR0yJP.1 \nMeeting ID: 827 6456 4496 \nPasscode: 208522 \n  \nJoin by Phone: \n\n877 853 5247 US Toll-free\n888 788 0099 US Toll-free\n\nMeeting ID: 827 6456 4496 \nPasscode: 208522
URL:https://www.glwater.org/event/audit-committee-108/
LOCATION:Zoom Telephonic
CATEGORIES:Audit Committee
END:VEVENT
BEGIN:VEVENT
DTSTART;TZID=America/Halifax:20260908T100000
DTEND;TZID=America/Halifax:20260908T120000
DTSTAMP:20260419T104546
CREATED:20251003T151359Z
LAST-MODIFIED:20251003T151418Z
UID:8901-1788861600-1788868800@www.glwater.org
SUMMARY:Capital Planning
DESCRIPTION:Click Here to View Agenda: \n  \nJoin Zoom Meeting: \nhttps://glwater.zoom.us/j/82993055893?pwd=PunbzNpsoCorjazDSpcXk2jP3Lb13L.1 \nMeeting ID: 829 9305 5893 \nPasscode: 406471 \n  \nJoin by Phone: \n\n888 788 0099 US Toll-free\n877 853 5247 US Toll-free\n\nMeeting ID: 829 9305 5893 \nPasscode: 406471 \n 
URL:https://www.glwater.org/event/capital-planning-27/
LOCATION:Zoom Telephonic
CATEGORIES:Capital Planning Committee
END:VEVENT
BEGIN:VEVENT
DTSTART;TZID=America/Halifax:20260909T110000
DTEND;TZID=America/Halifax:20260909T130000
DTSTAMP:20260419T104546
CREATED:20251003T173921Z
LAST-MODIFIED:20251003T173921Z
UID:8931-1788951600-1788958800@www.glwater.org
SUMMARY:Operations and Resources
DESCRIPTION:Click Here to View Agemda: \n  \nJoin Zoom Meeting: \nhttps://glwater.zoom.us/j/84951278385?pwd=sx4AQkGEuDD2skbefSbxtU4tqSAjDK.1 \nMeeting ID: 849 5127 8385 \nPasscode: 596997 \n  \nJoin by Phone: \n\n888 788 0099 US Toll-free\n877 853 5247 US Toll-free\n\nMeeting ID: 849 5127 8385 \nPasscode: 596997
URL:https://www.glwater.org/event/operations-and-resources-41/
LOCATION:Zoom Telephonic
CATEGORIES:Operations and Resources Committee
END:VEVENT
BEGIN:VEVENT
DTSTART;TZID=America/Halifax:20260909T130000
DTEND;TZID=America/Halifax:20260909T170000
DTSTAMP:20260419T104546
CREATED:20251001T201101Z
LAST-MODIFIED:20251001T201121Z
UID:8878-1788958800-1788973200@www.glwater.org
SUMMARY:Board of Directors Workshop
DESCRIPTION:Click Here to View Agenda: \n  \nJoin Zoom Meeting: \nhttps://glwater.zoom.us/j/86169815620?pwd=pasan0yvLgqK7v8oMNvjMaX3kaljuX.1 \nMeeting ID: 861 6981 5620 \nPasscode: 673447 \n  \nJoin by Phone: \n\n877 853 5247 US Toll-free\n888 788 0099 US Toll-free\n\nMeeting ID: 861 6981 5620 \nPasscode: 673447
URL:https://www.glwater.org/event/board-of-directors-workshop-108/
LOCATION:Zoom Telephonic
CATEGORIES:Board of Directors
END:VEVENT
BEGIN:VEVENT
DTSTART;TZID=America/Halifax:20260923T130000
DTEND;TZID=America/Halifax:20260923T140000
DTSTAMP:20260419T104546
CREATED:20251003T183508Z
LAST-MODIFIED:20251003T183508Z
UID:8956-1790168400-1790172000@www.glwater.org
SUMMARY:Legal Committee
DESCRIPTION:Click Here to View Agenda: \n  \nJoin Zoom Meeting: \nhttps://glwater.zoom.us/j/89535013443?pwd=o9IjAZ40YZGScru56Ddeeyk8czsc3O.1 \nMeeting ID: 895 3501 3443 \nPasscode: 306018 \n  \nJoin by Phone: \n\n888 788 0099 US Toll-free\n877 853 5247 US Toll-free\n\n  \nMeeting ID: 895 3501 3443 \nPasscode: 306018
URL:https://www.glwater.org/event/legal-committee-94/
LOCATION:Zoom Telephonic
CATEGORIES:Legal Committee
END:VEVENT
BEGIN:VEVENT
DTSTART;TZID=America/Halifax:20260925T080000
DTEND;TZID=America/Halifax:20260925T100000
DTSTAMP:20260419T104546
CREATED:20251121T185324Z
LAST-MODIFIED:20251121T185403Z
UID:9092-1790323200-1790330400@www.glwater.org
SUMMARY:Audit Committee
DESCRIPTION:Click Here to View Agenda: \n  \nJoin Zoom Meeting: \nhttps://glwater.zoom.us/j/87199937802?pwd=NarJBXP610EHrtZk2W440LwfoKSJCJ.1 \nMeeting ID: 871 9993 7802 \nPasscode: 626432 \n  \nJoin by Phone: \n\n877 853 5247 US Toll-free\n888 788 0099 US Toll-free\n\nMeeting ID: 871 9993 7802 \nPasscode: 626432
URL:https://www.glwater.org/event/audit-committee-109/
LOCATION:Zoom Telephonic
CATEGORIES:Audit Committee
END:VEVENT
BEGIN:VEVENT
DTSTART;TZID=America/Halifax:20261014T110000
DTEND;TZID=America/Halifax:20261014T130000
DTSTAMP:20260419T104546
CREATED:20251003T174259Z
LAST-MODIFIED:20251003T174259Z
UID:8933-1791975600-1791982800@www.glwater.org
SUMMARY:Operations and Resources
DESCRIPTION:Click Here to View Agenda: \n  \nJoin Zoom Meeting: \nhttps://glwater.zoom.us/j/81283247530?pwd=lKbD95DUCXcADhE0rhsnmFNmcb7SCn.1 \nMeeting ID: 812 8324 7530 \nPasscode: 447699 \n  \nJoin by Phone: \n\n888 788 0099 US Toll-free\n877 853 5247 US Toll-free\n\nMeeting ID: 812 8324 7530 \nPasscode: 447699
URL:https://www.glwater.org/event/operations-and-resources-42/
LOCATION:Zoom Telephonic
CATEGORIES:Operations and Resources Committee
END:VEVENT
BEGIN:VEVENT
DTSTART;TZID=America/Halifax:20261014T130000
DTEND;TZID=America/Halifax:20261014T170000
DTSTAMP:20260419T104546
CREATED:20251001T201704Z
LAST-MODIFIED:20251001T201704Z
UID:8882-1791982800-1791997200@www.glwater.org
SUMMARY:Board of Directors Workshop
DESCRIPTION:Click Here to View Agenda: \n  \nJoin Zoom Meeting: \nhttps://glwater.zoom.us/j/85437481655?pwd=ooVZRk4FTIk95IHo3TY09O3wmmlJqm.1 \nMeeting ID: 854 3748 1655 \nPasscode: 870794 \n  \nJoin by Phone: \n\n877 853 5247 US Toll-free\n888 788 0099 US Toll-free\n\nMeeting ID: 854 3748 1655 \nPasscode: 870794
URL:https://www.glwater.org/event/board-of-directors-workshop-109/
LOCATION:Zoom Telephonic
CATEGORIES:Board of Directors
END:VEVENT
BEGIN:VEVENT
DTSTART;TZID=America/Halifax:20261020T100000
DTEND;TZID=America/Halifax:20261020T120000
DTSTAMP:20260419T104546
CREATED:20251003T151708Z
LAST-MODIFIED:20251003T151708Z
UID:8903-1792490400-1792497600@www.glwater.org
SUMMARY:Capital Planning
DESCRIPTION:Click Here to View Agenda: \n  \nJoin Zoom Meeting: \nhttps://glwater.zoom.us/j/81602914278?pwd=a8xxefQ5lGFm0DZyVGbILfxSJIIDbq.1 \nMeeting ID: 816 0291 4278 \nPasscode: 180695 \n  \nJoin by Phone: \n\n888 788 0099 US Toll-free\n877 853 5247 US Toll-free\n\nMeeting ID: 816 0291 4278 \nPasscode: 180695
URL:https://www.glwater.org/event/capital-planning-28/
LOCATION:Zoom Telephonic
CATEGORIES:Capital Planning Committee
END:VEVENT
BEGIN:VEVENT
DTSTART;TZID=America/Halifax:20261023T080000
DTEND;TZID=America/Halifax:20261023T100000
DTSTAMP:20260419T104546
CREATED:20251121T185622Z
LAST-MODIFIED:20251121T185651Z
UID:9094-1792742400-1792749600@www.glwater.org
SUMMARY:Audit Committee
DESCRIPTION:Click Here to View Agenda: \n  \nJoin Zoom Meeting{ \nhttps://glwater.zoom.us/j/88919586622?pwd=yinV8FbDqkpDWhbaSDo9v8D7Ca4yOJ.1 \nMeeting ID: 889 1958 6622 \nPasscode: 636832 \n  \nJoin by Phone: \n\n877 853 5247 US Toll-free\n888 788 0099 US Toll-free\n\nMeeting ID: 889 1958 6622 \nPasscode: 636832
URL:https://www.glwater.org/event/audit-committee-110/
LOCATION:Zoom Telephonic
CATEGORIES:Audit Committee
END:VEVENT
BEGIN:VEVENT
DTSTART;TZID=America/Halifax:20261028T130000
DTEND;TZID=America/Halifax:20261028T140000
DTSTAMP:20260419T104546
CREATED:20251003T183737Z
LAST-MODIFIED:20251003T183737Z
UID:8958-1793192400-1793196000@www.glwater.org
SUMMARY:Legal Committee
DESCRIPTION:Click Here to View Agenda: \n  \nJoin Zoom Meeting: \nhttps://glwater.zoom.us/j/81854452516?pwd=Hi9XfJzgfn6L61n6kREKI4PCgnr70G.1 \nMeeting ID: 818 5445 2516 \nPasscode: 504066 \n  \nJoin by Phone: \n\n888 788 0099 US Toll-free\n877 853 5247 US Toll-free\n\nMeeting ID: 818 5445 2516 \nPasscode: 504066
URL:https://www.glwater.org/event/legal-committee-95/
LOCATION:Zoom Telephonic
CATEGORIES:Legal Committee
END:VEVENT
BEGIN:VEVENT
DTSTART;TZID=America/Halifax:20261112T110000
DTEND;TZID=America/Halifax:20261112T130000
DTSTAMP:20260419T104546
CREATED:20251003T174807Z
LAST-MODIFIED:20251003T174850Z
UID:8935-1794481200-1794488400@www.glwater.org
SUMMARY:Operations and Resources
DESCRIPTION:Click Here to View Agenda: \n  \nJoin Zoom Meeting: \nhttps://glwater.zoom.us/j/83140848199?pwd=NhsrnwdInO9a8f0f8qr9Vnul7hOEM0.1 \nMeeting ID: 831 4084 8199 \nPasscode: 852653 \n  \nJoin by Phone: \n\n888 788 0099 US Toll-free\n877 853 5247 US Toll-free\n\nMeeting ID: 831 4084 8199 \nPasscode: 852653
URL:https://www.glwater.org/event/operations-and-resources-43/
LOCATION:Zoom Telephonic
CATEGORIES:Operations and Resources Committee
END:VEVENT
BEGIN:VEVENT
DTSTART;TZID=America/Halifax:20261119T130000
DTEND;TZID=America/Halifax:20261119T140000
DTSTAMP:20260419T104546
CREATED:20251003T184035Z
LAST-MODIFIED:20251003T184035Z
UID:8960-1795093200-1795096800@www.glwater.org
SUMMARY:Legal Committee
DESCRIPTION:Click Here to View Agenda: \n  \nJoin Zoom Meeting: \nhttps://glwater.zoom.us/j/85895261626?pwd=h3kEHYJ8NcwjOY7cOZcHSZRZZPnj0j.1 \nMeeting ID: 858 9526 1626 \nPasscode: 588004 \n  \nJoin by Phone: \n\n888 788 0099 US Toll-free\n877 853 5247 US Toll-free\n\nMeeting ID: 858 9526 1626 \nPasscode: 588004
URL:https://www.glwater.org/event/legal-committee-96/
LOCATION:Zoom Telephonic
CATEGORIES:Legal Committee
END:VEVENT
BEGIN:VEVENT
DTSTART;TZID=America/Halifax:20261119T130000
DTEND;TZID=America/Halifax:20261119T170000
DTSTAMP:20260419T104546
CREATED:20251001T204134Z
LAST-MODIFIED:20251001T204134Z
UID:8886-1795093200-1795107600@www.glwater.org
SUMMARY:Board of Directors Workshop
DESCRIPTION:Click Here to View Agenda: \n  \nJoin Zoom Meeting: \nhttps://glwater.zoom.us/j/83684018142?pwd=Kbh3BKQ9boTD0bwD7BepmWySgLbolp.1 \nMeeting ID: 836 8401 8142 \nPasscode: 445249 \n  \nJoin by Phone: \n\n877 853 5247 US Toll-free\n888 788 0099 US Toll-free\n\nMeeting ID: 836 8401 8142 \nPasscode: 445249
URL:https://www.glwater.org/event/board-of-directors-workshop-110/
LOCATION:Zoom Telephonic
CATEGORIES:Board of Directors
END:VEVENT
BEGIN:VEVENT
DTSTART;TZID=America/Halifax:20261208T100000
DTEND;TZID=America/Halifax:20261208T120000
DTSTAMP:20260419T104546
CREATED:20251003T163127Z
LAST-MODIFIED:20251205T211533Z
UID:8905-1796724000-1796731200@www.glwater.org
SUMMARY:Capital Planning
DESCRIPTION:Click Here to View Agenda: \n  \nJoin Zoom Meeting: \nhttps://glwater.zoom.us/j/84402891065?pwd=Hsf6bOrOiUjPB6N8drbfjrdEWOh9a1.1 \nMeeting ID: 844 0289 1065 \nPasscode: 317107 \n  \nJoin by Phone: \n\n888 788 0099 US Toll-free\n877 853 5247 US Toll-free\n\nMeeting ID: 844 0289 1065 \nPasscode: 317107
URL:https://www.glwater.org/event/capital-planning-29/
LOCATION:Zoom Telephonic
CATEGORIES:Capital Planning Committee
END:VEVENT
BEGIN:VEVENT
DTSTART;TZID=America/Halifax:20261209T080000
DTEND;TZID=America/Halifax:20261209T170000
DTSTAMP:20260419T104546
CREATED:20251001T204359Z
LAST-MODIFIED:20251001T204359Z
UID:8888-1796803200-1796835600@www.glwater.org
SUMMARY:Board of Directors Workshop
DESCRIPTION:Click Here to View Agenda: \n  \nJoin Zoom Meeting: \nhttps://glwater.zoom.us/j/82553253707?pwd=W7q20p3Ku7DvlQ0zb7AqWAsELNCjfp.1 \nMeeting ID: 825 5325 3707 \nPasscode: 740621 \n  \nJoin by Phone: \n\n877 853 5247 US Toll-free\n888 788 0099 US Toll-free\n\nMeeting ID: 825 5325 3707 \nPasscode: 740621 \n 
URL:https://www.glwater.org/event/board-of-directors-workshop-111/
LOCATION:Zoom Telephonic
CATEGORIES:Board of Directors
END:VEVENT
BEGIN:VEVENT
DTSTART;TZID=America/Halifax:20261209T110000
DTEND;TZID=America/Halifax:20261209T130000
DTSTAMP:20260419T104546
CREATED:20251003T175415Z
LAST-MODIFIED:20251208T202145Z
UID:8937-1796814000-1796821200@www.glwater.org
SUMMARY:Operations and Resources
DESCRIPTION:Click Here to View Agenda: \n  \nJoin Zoom Meeting: \nhttps://glwater.zoom.us/j/89765740040?pwd=IYr4ssHs6jWiKuGXCCcOwpRTZirc5U.1 \nMeeting ID: 897 6574 0040 \nPasscode: 963731 \n  \nJoin by Phone: \n\n888 788 0099 US Toll-free\n877 853 5247 US Toll-free\n\nMeeting ID: 897 6574 0040 \nPasscode: 963731
URL:https://www.glwater.org/event/operations-and-resources-44/
LOCATION:Zoom Telephonic
CATEGORIES:Operations and Resources Committee
END:VEVENT
BEGIN:VEVENT
DTSTART;TZID=America/Halifax:20261217T130000
DTEND;TZID=America/Halifax:20261217T140000
DTSTAMP:20260419T104546
CREATED:20251003T184333Z
LAST-MODIFIED:20251003T184333Z
UID:8962-1797512400-1797516000@www.glwater.org
SUMMARY:Legal Committee
DESCRIPTION:Click Here to View Agenda: \n  \nJoin Zoom Meeting: \nhttps://glwater.zoom.us/j/83601562333?pwd=FdunzNgw3ZkGyqHF9DUppdjctdqVub.1 \nMeeting ID: 836 0156 2333 \nPasscode: 365365 \n  \nJoin by Phone: \n\n888 788 0099 US Toll-free\n877 853 5247 US Toll-free\n\nMeeting ID: 836 0156 2333 \nPasscode: 365365
URL:https://www.glwater.org/event/legal-committee-97/
LOCATION:Zoom Telephonic
CATEGORIES:Legal Committee
END:VEVENT
BEGIN:VEVENT
DTSTART;TZID=America/Halifax:20261218T080000
DTEND;TZID=America/Halifax:20261218T100000
DTSTAMP:20260419T104546
CREATED:20251121T190930Z
LAST-MODIFIED:20251121T190951Z
UID:9098-1797580800-1797588000@www.glwater.org
SUMMARY:Audit Committee
DESCRIPTION:Click Here to View Agenda: \n  \nJoin Zoom Meeting: \nhttps://glwater.zoom.us/j/87652753227?pwd=bh0kQsG0FQqlpt9WZDfs9xR1RogaAH.1 \nMeeting ID: 876 5275 3227 \nPasscode: 325813 \n  \nJoin by Phone: \n\n877 853 5247 US Toll-free\n888 788 0099 US Toll-free\n\nMeeting ID: 876 5275 3227 \nPasscode: 325813
URL:https://www.glwater.org/event/audit-committee-112/
LOCATION:Zoom Telephonic
CATEGORIES:Audit Committee
END:VEVENT
END:VCALENDAR