BEGIN:VCALENDAR
VERSION:2.0
PRODID:-//GLWA - ECPv6.15.20//NONSGML v1.0//EN
CALSCALE:GREGORIAN
METHOD:PUBLISH
X-ORIGINAL-URL:https://www.glwater.org
X-WR-CALDESC:Events for GLWA
REFRESH-INTERVAL;VALUE=DURATION:PT1H
X-Robots-Tag:noindex
X-PUBLISHED-TTL:PT1H
BEGIN:VTIMEZONE
TZID:America/Halifax
BEGIN:DAYLIGHT
TZOFFSETFROM:-0400
TZOFFSETTO:-0300
TZNAME:ADT
DTSTART:20230312T060000
END:DAYLIGHT
BEGIN:STANDARD
TZOFFSETFROM:-0300
TZOFFSETTO:-0400
TZNAME:AST
DTSTART:20231105T050000
END:STANDARD
BEGIN:DAYLIGHT
TZOFFSETFROM:-0400
TZOFFSETTO:-0300
TZNAME:ADT
DTSTART:20240310T060000
END:DAYLIGHT
BEGIN:STANDARD
TZOFFSETFROM:-0300
TZOFFSETTO:-0400
TZNAME:AST
DTSTART:20241103T050000
END:STANDARD
BEGIN:DAYLIGHT
TZOFFSETFROM:-0400
TZOFFSETTO:-0300
TZNAME:ADT
DTSTART:20250309T060000
END:DAYLIGHT
BEGIN:STANDARD
TZOFFSETFROM:-0300
TZOFFSETTO:-0400
TZNAME:AST
DTSTART:20251102T050000
END:STANDARD
END:VTIMEZONE
BEGIN:VEVENT
DTSTART;TZID=America/Halifax:20240710T110000
DTEND;TZID=America/Halifax:20240710T130000
DTSTAMP:20260420T055631
CREATED:20231026T133443Z
LAST-MODIFIED:20240708T200418Z
UID:6731-1720609200-1720616400@www.glwater.org
SUMMARY:Operations and Resources
DESCRIPTION:Click Here to View Agenda: \n  \nJoin Zoom Meeting: \nhttps://glwater.zoom.us/j/89359009695?pwd=SjlQdndXNTRrdTRNSzV6Uzcxbmgxdz09 \nMeeting ID: 893 5900 9695 \nPasscode: 277601 \n  \nJoin by Phone: \n888 788 0099 US Toll-free \n877 853 5247 US Toll-free
URL:https://www.glwater.org/event/operations-and-resources-19/
LOCATION:Zoom Telephonic
CATEGORIES:Operations and Resources Committee
END:VEVENT
BEGIN:VEVENT
DTSTART;TZID=America/Halifax:20240710T130000
DTEND;TZID=America/Halifax:20240710T170000
DTSTAMP:20260420T055631
CREATED:20231101T204125Z
LAST-MODIFIED:20240701T180611Z
UID:6802-1720616400-1720630800@www.glwater.org
SUMMARY:Board of Directors Workshop - Canceled
DESCRIPTION:Click Here to View Agenda: \n  \nJoin Zoom Meeting: \nhttps://glwater.zoom.us/j/89718321103?pwd=TE55NTVBS0grdFllUDYwbFhLK2J5UT09 \nMeeting ID: 897 1832 1103 \nPasscode: 064453 \n  \nJoin by Phone: \n888 788 0099 US Toll-free \n877 853 5247 US Toll-free \nMeeting ID: 897 1832 1103 \nPasscode: 064453
URL:https://www.glwater.org/event/board-of-directors-workshop-78/
LOCATION:Zoom Telephonic
CATEGORIES:Board of Directors
END:VEVENT
BEGIN:VEVENT
DTSTART;TZID=America/Halifax:20240724T130000
DTEND;TZID=America/Halifax:20240724T140000
DTSTAMP:20260420T055631
CREATED:20231107T201927Z
LAST-MODIFIED:20240722T152135Z
UID:6856-1721826000-1721829600@www.glwater.org
SUMMARY:Legal Committee - CANCELED
DESCRIPTION:Click Here to View Agenda: \n  \nJoin Zoom Meeting: \nhttps://glwater.zoom.us/j/86719577841?pwd=WmpDNlNSNnBSZXBGcnMySjRVeGZHZz09 \nMeeting ID: 867 1957 7841 \nPasscode: 541299 \n  \nJoin by Phone: \n888 788 0099 US Toll-free \n877 853 5247 US Toll-free \nMeeting ID: 867 1957 7841 \nPasscode: 541299
URL:https://www.glwater.org/event/legal-committee-68/
LOCATION:Zoom Telephonic
CATEGORIES:Legal Committee
END:VEVENT
BEGIN:VEVENT
DTSTART;TZID=America/Halifax:20240724T140000
DTEND;TZID=America/Halifax:20240724T180000
DTSTAMP:20260420T055631
CREATED:20231102T162628Z
LAST-MODIFIED:20240722T212033Z
UID:6819-1721829600-1721844000@www.glwater.org
SUMMARY:Board of Directors
DESCRIPTION:This meeting will be held in the Water Board Building\, 735 Randolph\, 5th Floor Board Room\, Detroit\, Michigan 48226 \n(Subject to Available Capacity) \nand Zoom Telephonic \nClick Here to View the Agenda: \nJoin Zoom Meeting: \nhttps://glwater.zoom.us/j/82299534853?pwd=V29nenh5ckQyODM5a09jcWxyVDZVQT09 \nMeeting ID: 822 9953 4853 \nPasscode: 099393 \n  \nJoin by Phone: \n888 788 0099 US Toll-free \n877 853 5247 US Toll-free \nMeeting ID: 822 9953 4853 \nPasscode: 099393
URL:https://www.glwater.org/event/board-of-directors-75/
LOCATION:Water Board Building\, 5th Floor Board Room and Zoom Telephonic\, 735 Randolph\, Detroit\, MI\, 48226
CATEGORIES:Board of Directors
END:VEVENT
BEGIN:VEVENT
DTSTART;TZID=America/Halifax:20240726T080000
DTEND;TZID=America/Halifax:20240726T100000
DTSTAMP:20260420T055631
CREATED:20231120T155640Z
LAST-MODIFIED:20240724T202420Z
UID:6919-1721980800-1721988000@www.glwater.org
SUMMARY:Audit Committee - Canceled
DESCRIPTION:Click Here to View Agenda: \n  \nJoin Zoom Meeting: \nhttps://glwater.zoom.us/j/83692791803?pwd=L0NiSGl5clV5WHBzeEh2SFlzeDhDdz09 \nMeeting ID: 836 9279 1803 \nPasscode: 925486 \n  \nJoin by Phone: \n888 788 0099 US Toll-free \n877 853 5247 US Toll-free \nMeeting ID: 836 9279 1803 \nPasscode: 925486
URL:https://www.glwater.org/event/audit-committee-83/
LOCATION:Zoom Telephonic
CATEGORIES:Audit Committee
END:VEVENT
END:VCALENDAR