BEGIN:VCALENDAR
VERSION:2.0
PRODID:-//GLWA - ECPv6.15.20//NONSGML v1.0//EN
CALSCALE:GREGORIAN
METHOD:PUBLISH
X-ORIGINAL-URL:https://www.glwater.org
X-WR-CALDESC:Events for GLWA
REFRESH-INTERVAL;VALUE=DURATION:PT1H
X-Robots-Tag:noindex
X-PUBLISHED-TTL:PT1H
BEGIN:VTIMEZONE
TZID:America/Halifax
BEGIN:DAYLIGHT
TZOFFSETFROM:-0400
TZOFFSETTO:-0300
TZNAME:ADT
DTSTART:20230312T060000
END:DAYLIGHT
BEGIN:STANDARD
TZOFFSETFROM:-0300
TZOFFSETTO:-0400
TZNAME:AST
DTSTART:20231105T050000
END:STANDARD
BEGIN:DAYLIGHT
TZOFFSETFROM:-0400
TZOFFSETTO:-0300
TZNAME:ADT
DTSTART:20240310T060000
END:DAYLIGHT
BEGIN:STANDARD
TZOFFSETFROM:-0300
TZOFFSETTO:-0400
TZNAME:AST
DTSTART:20241103T050000
END:STANDARD
BEGIN:DAYLIGHT
TZOFFSETFROM:-0400
TZOFFSETTO:-0300
TZNAME:ADT
DTSTART:20250309T060000
END:DAYLIGHT
BEGIN:STANDARD
TZOFFSETFROM:-0300
TZOFFSETTO:-0400
TZNAME:AST
DTSTART:20251102T050000
END:STANDARD
END:VTIMEZONE
BEGIN:VEVENT
DTSTART;TZID=America/Halifax:20240110T110000
DTEND;TZID=America/Halifax:20240110T130000
DTSTAMP:20260420T083911
CREATED:20231026T130155Z
LAST-MODIFIED:20240108T200824Z
UID:6716-1704884400-1704891600@www.glwater.org
SUMMARY:Operations and Resources
DESCRIPTION:Click Here to View Agenda: \n  \nJoin Zoom Meeting; \nhttps://glwater.zoom.us/j/82507432851?pwd=YUlCSDZzeXFOWktCYlFKQ04xdnR2UT09 \nMeeting ID: 825 0743 2851 \nPasscode: 640448 \n  \nJoin by Phone: \n\n888 788 0099 US Toll-free\n877 853 5247 US Toll-free\n\nMeeting ID: 825 0743 2851 \nPasscode: 640448
URL:https://www.glwater.org/event/operations-and-resources-13/
LOCATION:Zoom Telephonic
CATEGORIES:Operations and Resources Committee
END:VEVENT
BEGIN:VEVENT
DTSTART;TZID=America/Halifax:20240110T130000
DTEND;TZID=America/Halifax:20240110T170000
DTSTAMP:20260420T083911
CREATED:20231101T183530Z
LAST-MODIFIED:20240103T195146Z
UID:6779-1704891600-1704906000@www.glwater.org
SUMMARY:Board of Directors Workshop - Canceled
DESCRIPTION:Click Here to View Agenda: \n  \nJoin Zoom Meeting: \nhttps://glwater.zoom.us/j/89039697662?pwd=QVJBTFZQbHB6c2VPY0p0SXhiWlhwdz09 \nMeeting ID: 890 3969 7662 \nPasscode: 206952 \n  \nJoin by Phone: \n877 853 5247 US Toll-free \n888 788 0099 US Toll-free \nMeeting ID: 890 3969 7662 \nPasscode: 206952
URL:https://www.glwater.org/event/board-of-directors-workshop-69/
LOCATION:Zoom Telephonic
CATEGORIES:Board of Directors
END:VEVENT
BEGIN:VEVENT
DTSTART;TZID=America/Halifax:20240124T130000
DTEND;TZID=America/Halifax:20240124T140000
DTSTAMP:20260420T083911
CREATED:20231107T195045Z
LAST-MODIFIED:20240122T202749Z
UID:6841-1706101200-1706104800@www.glwater.org
SUMMARY:Legal Committee
DESCRIPTION:Click Here to View Agenda: \n  \nJoin Zoom Meeting \nhttps://glwater.zoom.us/j/87380924623?pwd=cVRRSExSWW9OVWpHKy9uQmFieEVIdz09 \nMeeting ID: 873 8092 4623 \nPasscode: 751331 \n  \nJoin by Phone: \n888 788 0099 US Toll-free \n877 853 5247 US Toll-free \nMeeting ID: 873 8092 4623 \nPasscode: 751331
URL:https://www.glwater.org/event/legal-committee-62/
LOCATION:Zoom Telephonic
CATEGORIES:Legal Committee
END:VEVENT
BEGIN:VEVENT
DTSTART;TZID=America/Halifax:20240124T140000
DTEND;TZID=America/Halifax:20240124T180000
DTSTAMP:20260420T083911
CREATED:20231101T184320Z
LAST-MODIFIED:20240122T222337Z
UID:6782-1706104800-1706119200@www.glwater.org
SUMMARY:Board of Directors
DESCRIPTION:This meeting will be held in the Water Board Building\, 735 Randolph\, 5th Floor Board Room\, Detroit\, Michigan 48226 \n(Subject to Available Capacity) \nand Zoom Telephonic \n  \nClick Here to View Agenda: \n  \nJoin Zoom Meeting: \nhttps://glwater.zoom.us/j/82199155969?pwd=OVdLVEJlRW1OQjBPQlJMWG9sU011Zz09 \nMeeting ID: 821 9915 5969 \nPasscode: 790990 \n  \nJoin by Phone: \n888 788 0099 US Toll-free \n877 853 5247 US Toll-free \nMeeting ID: 821 9915 5969 \nPasscode: 790990
URL:https://www.glwater.org/event/board-of-directors-70/
LOCATION:Water Board Building\, 5th Floor Board Room and Zoom Telephonic\, 735 Randolph\, Detroit\, MI\, 48226
CATEGORIES:Board of Directors
END:VEVENT
BEGIN:VEVENT
DTSTART;TZID=America/Halifax:20240126T080000
DTEND;TZID=America/Halifax:20240126T100000
DTSTAMP:20260420T083911
CREATED:20231120T152459Z
LAST-MODIFIED:20240123T194401Z
UID:6908-1706256000-1706263200@www.glwater.org
SUMMARY:Audit Committee - Canceled (Rescheduled to Friday\, February 9\, 2024 at 8:00 a.m.)
DESCRIPTION:Click Here to View Agenda: \n  \nJoin Zoom Meeting: \nhttps://glwater.zoom.us/j/83468945030?pwd=TDRoZGp0NFEyUHZ3MDNMK1EyZXA1QT09 \nMeeting ID: 834 6894 5030 \nPasscode: 810789 \n  \nJoin by Phone: \n877 853 5247 US Toll-free \n888 788 0099 US Toll-free \nMeeting ID: 834 6894 5030 \nPasscode: 810789
URL:https://www.glwater.org/event/audit-committee-77/
LOCATION:Zoom Telephonic
CATEGORIES:Audit Committee
END:VEVENT
END:VCALENDAR