BEGIN:VCALENDAR
VERSION:2.0
PRODID:-//GLWA - ECPv6.15.20//NONSGML v1.0//EN
CALSCALE:GREGORIAN
METHOD:PUBLISH
X-ORIGINAL-URL:https://www.glwater.org
X-WR-CALDESC:Events for GLWA
REFRESH-INTERVAL;VALUE=DURATION:PT1H
X-Robots-Tag:noindex
X-PUBLISHED-TTL:PT1H
BEGIN:VTIMEZONE
TZID:America/Halifax
BEGIN:DAYLIGHT
TZOFFSETFROM:-0400
TZOFFSETTO:-0300
TZNAME:ADT
DTSTART:20220313T060000
END:DAYLIGHT
BEGIN:STANDARD
TZOFFSETFROM:-0300
TZOFFSETTO:-0400
TZNAME:AST
DTSTART:20221106T050000
END:STANDARD
BEGIN:DAYLIGHT
TZOFFSETFROM:-0400
TZOFFSETTO:-0300
TZNAME:ADT
DTSTART:20230312T060000
END:DAYLIGHT
BEGIN:STANDARD
TZOFFSETFROM:-0300
TZOFFSETTO:-0400
TZNAME:AST
DTSTART:20231105T050000
END:STANDARD
BEGIN:DAYLIGHT
TZOFFSETFROM:-0400
TZOFFSETTO:-0300
TZNAME:ADT
DTSTART:20240310T060000
END:DAYLIGHT
BEGIN:STANDARD
TZOFFSETFROM:-0300
TZOFFSETTO:-0400
TZNAME:AST
DTSTART:20241103T050000
END:STANDARD
END:VTIMEZONE
BEGIN:VEVENT
DTSTART;TZID=America/Halifax:20230712T110000
DTEND;TZID=America/Halifax:20230712T130000
DTSTAMP:20260420T153202
CREATED:20221110T202353Z
LAST-MODIFIED:20230710T200922Z
UID:5664-1689159600-1689166800@www.glwater.org
SUMMARY:Operations and Resources
DESCRIPTION:Click Here to View Agenda: \n  \nJoin Zoom Meeting: \nMeeting ID: 816 4493 4125 \nPasscode: 192870 \n  \nJoin By Phone: \n888 788 0099 US Toll-free \n877 853 5247 US Toll-free \nMeeting ID: 816 4493 4125 \nPasscode: 192870
URL:https://www.glwater.org/event/operations-and-resources-7/
LOCATION:Zoom Telephonic
CATEGORIES:Operations and Resources Committee
END:VEVENT
BEGIN:VEVENT
DTSTART;TZID=America/Halifax:20230712T130000
DTEND;TZID=America/Halifax:20230712T170000
DTSTAMP:20260420T153202
CREATED:20221031T192135Z
LAST-MODIFIED:20230706T160041Z
UID:5551-1689166800-1689181200@www.glwater.org
SUMMARY:Board of Directors Workshop - Canceled
DESCRIPTION:Click Here to View Agenda: \n  \nJoin Zoom Meeting: \nMeeting ID: 869 5607 4384 \nPasscode: 603515 \n  \nJoin By Phone: \n877 853 5247 US Toll-free \n888 788 0099 US Toll-free \nMeeting ID: 869 5607 4384 \nPasscode: 603515 \n 
URL:https://www.glwater.org/event/board-of-directors-workshop-63/
LOCATION:Zoom Telephonic
CATEGORIES:Board of Directors
END:VEVENT
BEGIN:VEVENT
DTSTART;TZID=America/Halifax:20230726T130000
DTEND;TZID=America/Halifax:20230726T140000
DTSTAMP:20260420T153202
CREATED:20221101T181558Z
LAST-MODIFIED:20230724T202959Z
UID:5607-1690376400-1690380000@www.glwater.org
SUMMARY:Legal Committee
DESCRIPTION:Click Here to View Agenda: \n  \nJoin Zoom Meeting: \nMeeting ID: 829 4411 4959 \nPasscode: 283584 \n  \nJoin By Phone: \n888 788 0099 US Toll-free \n877 853 5247 US Toll-free \nMeeting ID: 829 4411 4959 \nPasscode: 283584
URL:https://www.glwater.org/event/legal-committee-56/
LOCATION:Zoom Telephonic
CATEGORIES:Legal Committee
END:VEVENT
BEGIN:VEVENT
DTSTART;TZID=America/Halifax:20230726T140000
DTEND;TZID=America/Halifax:20230726T180000
DTSTAMP:20260420T153202
CREATED:20221031T195151Z
LAST-MODIFIED:20230724T212049Z
UID:5553-1690380000-1690394400@www.glwater.org
SUMMARY:Board of Directors
DESCRIPTION:This meeting will be held in the Water Board Building\, 735 Randolph\, 5th Floor Board Room\, Detroit\, Michigan 48226 \n(Subject to Available Capacity) \nand Zoom Telephonic \n  \nClick Here to View Agenda: \n  \nJoin Zoom Meeting: \nMeeting ID: 865 2521 2951 \nPasscode: 338610 \n  \nJoin By Phone: \n888 788 0099 US Toll-free \n877 853 5247 US Toll-free \nMeeting ID: 865 2521 2951 \nPasscode: 338610
URL:https://www.glwater.org/event/board-of-directors-65/
LOCATION:Water Board Building\, 5th Floor Board Room and Zoom Telephonic\, 735 Randolph\, Detroit\, MI\, 48226
CATEGORIES:Board of Directors
END:VEVENT
BEGIN:VEVENT
DTSTART;TZID=America/Halifax:20230728T080000
DTEND;TZID=America/Halifax:20230728T100000
DTSTAMP:20260420T153202
CREATED:20221220T154120Z
LAST-MODIFIED:20230724T143600Z
UID:5795-1690531200-1690538400@www.glwater.org
SUMMARY:Audit Committee - Canceled
DESCRIPTION:Click Here to View Agenda: \n  \nJoin Zoom Meeting: \nMeeting ID: 815 9186 2716 \nPasscode: 620815 \n  \nJoin By Phone: \n877 853 5247 US Toll-free \n888 788 0099 US Toll-free \nMeeting ID: 815 9186 2716 \nPasscode: 620815
URL:https://www.glwater.org/event/audit-committee-72/
LOCATION:Zoom Telephonic
CATEGORIES:Audit Committee
END:VEVENT
END:VCALENDAR