BEGIN:VCALENDAR
VERSION:2.0
PRODID:-//GLWA - ECPv6.15.20//NONSGML v1.0//EN
CALSCALE:GREGORIAN
METHOD:PUBLISH
X-WR-CALNAME:GLWA
X-ORIGINAL-URL:https://www.glwater.org
X-WR-CALDESC:Events for GLWA
REFRESH-INTERVAL;VALUE=DURATION:PT1H
X-Robots-Tag:noindex
X-PUBLISHED-TTL:PT1H
BEGIN:VTIMEZONE
TZID:America/Halifax
BEGIN:DAYLIGHT
TZOFFSETFROM:-0400
TZOFFSETTO:-0300
TZNAME:ADT
DTSTART:20210314T060000
END:DAYLIGHT
BEGIN:STANDARD
TZOFFSETFROM:-0300
TZOFFSETTO:-0400
TZNAME:AST
DTSTART:20211107T050000
END:STANDARD
BEGIN:DAYLIGHT
TZOFFSETFROM:-0400
TZOFFSETTO:-0300
TZNAME:ADT
DTSTART:20220313T060000
END:DAYLIGHT
BEGIN:STANDARD
TZOFFSETFROM:-0300
TZOFFSETTO:-0400
TZNAME:AST
DTSTART:20221106T050000
END:STANDARD
BEGIN:DAYLIGHT
TZOFFSETFROM:-0400
TZOFFSETTO:-0300
TZNAME:ADT
DTSTART:20230312T060000
END:DAYLIGHT
BEGIN:STANDARD
TZOFFSETFROM:-0300
TZOFFSETTO:-0400
TZNAME:AST
DTSTART:20231105T050000
END:STANDARD
END:VTIMEZONE
BEGIN:VEVENT
DTSTART;TZID=America/Halifax:20220506T090000
DTEND;TZID=America/Halifax:20220506T110000
DTSTAMP:20260420T104830
CREATED:20220425T151629Z
LAST-MODIFIED:20220425T151723Z
UID:4868-1651827600-1651834800@www.glwater.org
SUMMARY:Special Audit Committee Meeting
DESCRIPTION:Click Here to View Agenda: \n  \nJoin Zoom Meeting \nhttps://glwater.zoom.us/j/83510810013?pwd=dzZ4NmxnRWd2UEJwWmNIdU9HVDlCUT09 \nMeeting ID: 835 1081 0013 \nPasscode: 419107 \n  \nJoin By Phone: \n888 788 0099 US Toll-free \n877 853 5247 US Toll-free \nMeeting ID: 835 1081 0013 \nPasscode: 419107
URL:https://www.glwater.org/event/special-audit-committee-meeting-7/
LOCATION:Zoom Telephonic
CATEGORIES:Audit Committee
END:VEVENT
BEGIN:VEVENT
DTSTART;TZID=America/Halifax:20220511T110000
DTEND;TZID=America/Halifax:20220511T130000
DTSTAMP:20260420T104830
CREATED:20211213T191130Z
LAST-MODIFIED:20220509T190353Z
UID:4536-1652266800-1652274000@www.glwater.org
SUMMARY:Operations and Resources
DESCRIPTION:Click Here to View Agenda: \n  \nJoin Zoom Meeting: \nMeeting ID: 865 8496 5009 \nPasscode: 208232 \n  \nJoin By Phone: \n888 788 0099 US Toll-free \n877 853 5247 US Toll-free \nMeeting ID: 865 8496 5009 \nPasscode: 208232
URL:https://www.glwater.org/event/operations-and-resources-committee-45/
LOCATION:Zoom Telephonic
CATEGORIES:Operations and Resources Committee
END:VEVENT
BEGIN:VEVENT
DTSTART;TZID=America/Halifax:20220511T130000
DTEND;TZID=America/Halifax:20220511T170000
DTSTAMP:20260420T104830
CREATED:20211214T174524Z
LAST-MODIFIED:20220509T203618Z
UID:4574-1652274000-1652288400@www.glwater.org
SUMMARY:Board of Directors Workshop
DESCRIPTION:Click Here to View Agenda: \n  \nJoin Zoom Meeting: \nMeeting ID: 811 4942 6440 \nPasscode: 959066 \n  \nJoin By Phone: \n877 853 5247 US Toll-free \n888 788 0099 US Toll-free \nMeeting ID: 811 4942 6440 \nPasscode: 959066
URL:https://www.glwater.org/event/board-of-directors-workshop-46/
LOCATION:Zoom Telephonic
CATEGORIES:Board of Directors
END:VEVENT
BEGIN:VEVENT
DTSTART;TZID=America/Halifax:20220523T080000
DTEND;TZID=America/Halifax:20220523T120000
DTSTAMP:20260420T104830
CREATED:20220428T161159Z
LAST-MODIFIED:20220519T170914Z
UID:4877-1653292800-1653307200@www.glwater.org
SUMMARY:Board of Directors Special Meeting
DESCRIPTION:This meeting will be held in the Water Board Building\, 735 Randolph\, 5th Floor Board Room\, Detroit\, Michigan 48226 \n(Subject to Available Capacity) \nand Zoom Telephonic \n  \nClick Here to View Agenda: \n  \nJoin Zoom Meeting: \nMeeting ID: 839 4327 8471 \nPasscode: 421567 \n  \nJoin By Phone: \n888 788 0099 US Toll-free \n877 853 5247 US Toll-free \nMeeting ID: 839 4327 8471 \nPasscode: 421567
URL:https://www.glwater.org/event/board-of-directors-special-meeting-3/
LOCATION:Water Board Building\, 5th Floor Board Room and Zoom Telephonic\, 735 Randolph\, Detroit\, MI\, 48226
CATEGORIES:Board of Directors
END:VEVENT
BEGIN:VEVENT
DTSTART;TZID=America/Halifax:20220525T130000
DTEND;TZID=America/Halifax:20220525T140000
DTSTAMP:20260420T104830
CREATED:20220128T160133Z
LAST-MODIFIED:20220523T195501Z
UID:4713-1653483600-1653487200@www.glwater.org
SUMMARY:Legal Committee
DESCRIPTION:Click Here to View Agenda: \n  \nJoin Zoom Meeting: \nMeeting ID: 862 3023 5124 \nPasscode: 336927 \n  \nJoin By Phone: \n877 853 5247 US Toll-free \n888 788 0099 US Toll-free \nMeeting ID: 862 3023 5124 \nPasscode: 336927
URL:https://www.glwater.org/event/legal-committee-42/
LOCATION:Zoom Telephonic
CATEGORIES:Legal Committee
END:VEVENT
BEGIN:VEVENT
DTSTART;TZID=America/Halifax:20220525T140000
DTEND;TZID=America/Halifax:20220525T180000
DTSTAMP:20260420T104830
CREATED:20211214T174746Z
LAST-MODIFIED:20220523T215010Z
UID:4576-1653487200-1653501600@www.glwater.org
SUMMARY:Board of Directors
DESCRIPTION:This meeting will be held in the Water Board Building\, 735 Randolph\, 5th Floor Board Room\, Detroit\, Michigan 48226 \n(Subject to Available Capacity) \nand Zoom Telephonic \n  \nClick Here to View Agenda: \n  \nJoin Zoom Meeting: \nMeeting ID: 831 9440 5282 \nPasscode: 027232 \n  \nJoin By Phone: \n877 853 5247 US Toll-free \n888 788 0099 US Toll-free \nMeeting ID: 831 9440 5282 \nPasscode: 027232
URL:https://www.glwater.org/event/board-of-directors-52/
LOCATION:Water Board Building\, 5th Floor Board Room and Zoom Telephonic\, 735 Randolph\, Detroit\, MI\, 48226
CATEGORIES:Board of Directors
END:VEVENT
BEGIN:VEVENT
DTSTART;TZID=America/Halifax:20220527T080000
DTEND;TZID=America/Halifax:20220527T100000
DTSTAMP:20260420T104830
CREATED:20220207T194824Z
LAST-MODIFIED:20220207T194858Z
UID:4749-1653638400-1653645600@www.glwater.org
SUMMARY:Audit Committee
DESCRIPTION:Click Here to View Agenda: \n  \nJoin Zoom Meeting: \nMeeting ID: 892 4975 7345 \nPasscode: 829151 \n  \nJoin By Phone: \nMeeting ID: 892 4975 7345 \nPasscode: 829151
URL:https://www.glwater.org/event/audit-committee-55/
LOCATION:Zoom Telephonic
CATEGORIES:Audit Committee
END:VEVENT
END:VCALENDAR