BEGIN:VCALENDAR
VERSION:2.0
PRODID:-//GLWA - ECPv6.15.20//NONSGML v1.0//EN
CALSCALE:GREGORIAN
METHOD:PUBLISH
X-ORIGINAL-URL:https://www.glwater.org
X-WR-CALDESC:Events for GLWA
REFRESH-INTERVAL;VALUE=DURATION:PT1H
X-Robots-Tag:noindex
X-PUBLISHED-TTL:PT1H
BEGIN:VTIMEZONE
TZID:America/Halifax
BEGIN:DAYLIGHT
TZOFFSETFROM:-0400
TZOFFSETTO:-0300
TZNAME:ADT
DTSTART:20210314T060000
END:DAYLIGHT
BEGIN:STANDARD
TZOFFSETFROM:-0300
TZOFFSETTO:-0400
TZNAME:AST
DTSTART:20211107T050000
END:STANDARD
BEGIN:DAYLIGHT
TZOFFSETFROM:-0400
TZOFFSETTO:-0300
TZNAME:ADT
DTSTART:20220313T060000
END:DAYLIGHT
BEGIN:STANDARD
TZOFFSETFROM:-0300
TZOFFSETTO:-0400
TZNAME:AST
DTSTART:20221106T050000
END:STANDARD
BEGIN:DAYLIGHT
TZOFFSETFROM:-0400
TZOFFSETTO:-0300
TZNAME:ADT
DTSTART:20230312T060000
END:DAYLIGHT
BEGIN:STANDARD
TZOFFSETFROM:-0300
TZOFFSETTO:-0400
TZNAME:AST
DTSTART:20231105T050000
END:STANDARD
END:VTIMEZONE
BEGIN:VEVENT
DTSTART;TZID=America/Halifax:20220112T110000
DTEND;TZID=America/Halifax:20220112T130000
DTSTAMP:20260419T160529
CREATED:20211213T185337Z
LAST-MODIFIED:20220128T162533Z
UID:4527-1641985200-1641992400@www.glwater.org
SUMMARY:Operations and Resources
DESCRIPTION:Click Here to View Agenda: \n  \nJoin Zoom Meeting: \nMeeting ID: 876 6889 4904 \nPasscode: 872713 \n  \nJoin By Phone: \n877 853 5247 US Toll-free \n888 788 0099 US Toll-free \nMeeting ID: 876 6889 4904 \nPasscode: 872713 \n 
URL:https://www.glwater.org/event/operations-and-resources-committee-41/
LOCATION:Zoom Telephonic
CATEGORIES:Operations and Resources Committee
END:VEVENT
BEGIN:VEVENT
DTSTART;TZID=America/Halifax:20220112T130000
DTEND;TZID=America/Halifax:20220112T170000
DTSTAMP:20260419T160529
CREATED:20211214T171339Z
LAST-MODIFIED:20220107T183559Z
UID:4552-1641992400-1642006800@www.glwater.org
SUMMARY:Board of Directors Workshop - Cancelled
DESCRIPTION:Click Here to View Agenda: \n  \nJoin Zoom Meeting: \nMeeting ID: 850 9315 8709 \nPasscode: 565353 \n  \nJoin By Phone: \n888 788 0099 US Toll-free \n877 853 5247 US Toll-free \nMeeting ID: 850 9315 8709 \nPasscode: 565353
URL:https://www.glwater.org/event/board-of-directors-workshop-39/
LOCATION:Zoom Telephonic
CATEGORIES:Board of Directors
END:VEVENT
BEGIN:VEVENT
DTSTART;TZID=America/Halifax:20220121T080000
DTEND;TZID=America/Halifax:20220121T093000
DTSTAMP:20260419T160529
CREATED:20220107T185732Z
LAST-MODIFIED:20220108T171747Z
UID:4638-1642752000-1642757400@www.glwater.org
SUMMARY:Special Audit Committee
DESCRIPTION:Click Here to View Agenda: \n  \nJoin Zoom Meeting: \nMeeting ID: 812 8782 3682 \nPasscode: 903498 \n  \nJoin By Phone: \n877 853 5247 US Toll-free \n888 788 0099 US Toll-free \nMeeting ID: 812 8782 3682 \nPasscode: 903498 \n 
URL:https://www.glwater.org/event/special-audit-committee/
LOCATION:Zoom Telephonic
CATEGORIES:Audit Committee
END:VEVENT
BEGIN:VEVENT
DTSTART;TZID=America/Halifax:20220126T130000
DTEND;TZID=America/Halifax:20220126T140000
DTSTAMP:20260419T160529
CREATED:20220124T222339Z
LAST-MODIFIED:20220124T222629Z
UID:4703-1643202000-1643205600@www.glwater.org
SUMMARY:Legal Committee
DESCRIPTION:Click Here to View Agenda: \n  \nJoin Zoom Meeting: \nMeeting ID: 864 7084 9669 \nPasscode: 318352 \n  \nJoin By Phone: \n888 788 0099 US Toll-free \n877 853 5247 US Toll-free \nMeeting ID: 864 7084 9669 \nPasscode: 318352 \n 
URL:https://www.glwater.org/event/legal-committee-38/
LOCATION:Zoom Telephonic
CATEGORIES:Legal Committee
END:VEVENT
BEGIN:VEVENT
DTSTART;TZID=America/Halifax:20220126T140000
DTEND;TZID=America/Halifax:20220126T180000
DTSTAMP:20260419T160529
CREATED:20211214T171717Z
LAST-MODIFIED:20220128T172614Z
UID:4554-1643205600-1643220000@www.glwater.org
SUMMARY:Board of Directors
DESCRIPTION:This meeting will be held in the Water Board Building\, 735 Randolph\, 5th Floor Board Room\, Detroit\, Michigan 48226 \n(Subject to Available Capacity) \nand Zoom Telephonic \n  \nClick Here to View Agenda: \n  \nJoin Zoom Meeting: \nMeeting ID: 832 4747 9403 \nPasscode: 652275 \n  \nJoin By Phone: \n888 788 0099 US Toll-free \n877 853 5247 US Toll-free \nMeeting ID: 832 4747 9403 \nPasscode: 652275
URL:https://www.glwater.org/event/board-of-directors-48/
LOCATION:Water Board Building\, 5th Floor Board Room and Zoom Telephonic\, 735 Randolph\, Detroit\, MI\, 48226
CATEGORIES:Board of Directors
END:VEVENT
BEGIN:VEVENT
DTSTART;TZID=America/Halifax:20220128T080000
DTEND;TZID=America/Halifax:20220128T100000
DTSTAMP:20260419T160529
CREATED:20211207T200150Z
LAST-MODIFIED:20220128T172641Z
UID:4471-1643356800-1643364000@www.glwater.org
SUMMARY:Audit Committee
DESCRIPTION:Click Here to View Agenda: \nJoin Zoom Meeting: \nMeeting ID: 829 0538 1669 \nPasscode: 015214 \n  \nJoin By Phone: \n888 788 0099 US Toll-free \n877 853 5247 US Toll-free \nMeeting ID: 829 0538 1669 \nPasscode: 015214 \n  \n  \n 
URL:https://www.glwater.org/event/audit-committee-53/
LOCATION:Zoom Telephonic
CATEGORIES:Audit Committee
END:VEVENT
BEGIN:VEVENT
DTSTART;TZID=America/Halifax:20220128T080000
DTEND;TZID=America/Halifax:20220128T100000
DTSTAMP:20260419T160529
CREATED:20220107T184230Z
LAST-MODIFIED:20220107T184246Z
UID:4636-1643356800-1643364000@www.glwater.org
SUMMARY:Audit Committee - Cancelled
DESCRIPTION:Special Audit Committee Meeting – Friday\, January 21\, 2022  (8:00 a.m. – 9:30 a.m.) \n 
URL:https://www.glwater.org/event/audit-committee-cancelled/
LOCATION:Zoom Telephonic
END:VEVENT
END:VCALENDAR