BEGIN:VCALENDAR
VERSION:2.0
PRODID:-//GLWA - ECPv6.15.20//NONSGML v1.0//EN
CALSCALE:GREGORIAN
METHOD:PUBLISH
X-WR-CALNAME:GLWA
X-ORIGINAL-URL:https://www.glwater.org
X-WR-CALDESC:Events for GLWA
REFRESH-INTERVAL;VALUE=DURATION:PT1H
X-Robots-Tag:noindex
X-PUBLISHED-TTL:PT1H
BEGIN:VTIMEZONE
TZID:America/Halifax
BEGIN:DAYLIGHT
TZOFFSETFROM:-0400
TZOFFSETTO:-0300
TZNAME:ADT
DTSTART:20220313T060000
END:DAYLIGHT
BEGIN:STANDARD
TZOFFSETFROM:-0300
TZOFFSETTO:-0400
TZNAME:AST
DTSTART:20221106T050000
END:STANDARD
BEGIN:DAYLIGHT
TZOFFSETFROM:-0400
TZOFFSETTO:-0300
TZNAME:ADT
DTSTART:20230312T060000
END:DAYLIGHT
BEGIN:STANDARD
TZOFFSETFROM:-0300
TZOFFSETTO:-0400
TZNAME:AST
DTSTART:20231105T050000
END:STANDARD
BEGIN:DAYLIGHT
TZOFFSETFROM:-0400
TZOFFSETTO:-0300
TZNAME:ADT
DTSTART:20240310T060000
END:DAYLIGHT
BEGIN:STANDARD
TZOFFSETFROM:-0300
TZOFFSETTO:-0400
TZNAME:AST
DTSTART:20241103T050000
END:STANDARD
END:VTIMEZONE
BEGIN:VEVENT
DTSTART;TZID=America/Halifax:20230712T110000
DTEND;TZID=America/Halifax:20230712T130000
DTSTAMP:20260421T125436
CREATED:20221110T202353Z
LAST-MODIFIED:20230710T200922Z
UID:5664-1689159600-1689166800@www.glwater.org
SUMMARY:Operations and Resources
DESCRIPTION:Click Here to View Agenda: \n  \nJoin Zoom Meeting: \nMeeting ID: 816 4493 4125 \nPasscode: 192870 \n  \nJoin By Phone: \n888 788 0099 US Toll-free \n877 853 5247 US Toll-free \nMeeting ID: 816 4493 4125 \nPasscode: 192870
URL:https://www.glwater.org/event/operations-and-resources-7/
LOCATION:Zoom Telephonic
CATEGORIES:Operations and Resources Committee
END:VEVENT
END:VCALENDAR