BEGIN:VCALENDAR
VERSION:2.0
PRODID:-//GLWA - ECPv6.15.20//NONSGML v1.0//EN
CALSCALE:GREGORIAN
METHOD:PUBLISH
X-WR-CALNAME:GLWA
X-ORIGINAL-URL:https://www.glwater.org
X-WR-CALDESC:Events for GLWA
REFRESH-INTERVAL;VALUE=DURATION:PT1H
X-Robots-Tag:noindex
X-PUBLISHED-TTL:PT1H
BEGIN:VTIMEZONE
TZID:America/Halifax
BEGIN:DAYLIGHT
TZOFFSETFROM:-0400
TZOFFSETTO:-0300
TZNAME:ADT
DTSTART:20250309T060000
END:DAYLIGHT
BEGIN:STANDARD
TZOFFSETFROM:-0300
TZOFFSETTO:-0400
TZNAME:AST
DTSTART:20251102T050000
END:STANDARD
BEGIN:DAYLIGHT
TZOFFSETFROM:-0400
TZOFFSETTO:-0300
TZNAME:ADT
DTSTART:20260308T060000
END:DAYLIGHT
BEGIN:STANDARD
TZOFFSETFROM:-0300
TZOFFSETTO:-0400
TZNAME:AST
DTSTART:20261101T050000
END:STANDARD
BEGIN:DAYLIGHT
TZOFFSETFROM:-0400
TZOFFSETTO:-0300
TZNAME:ADT
DTSTART:20270314T060000
END:DAYLIGHT
BEGIN:STANDARD
TZOFFSETFROM:-0300
TZOFFSETTO:-0400
TZNAME:AST
DTSTART:20271107T050000
END:STANDARD
END:VTIMEZONE
BEGIN:VEVENT
DTSTART;TZID=America/Halifax:20261028T130000
DTEND;TZID=America/Halifax:20261028T140000
DTSTAMP:20260420T071141
CREATED:20251003T183737Z
LAST-MODIFIED:20251003T183737Z
UID:8958-1793192400-1793196000@www.glwater.org
SUMMARY:Legal Committee
DESCRIPTION:Click Here to View Agenda: \n  \nJoin Zoom Meeting: \nhttps://glwater.zoom.us/j/81854452516?pwd=Hi9XfJzgfn6L61n6kREKI4PCgnr70G.1 \nMeeting ID: 818 5445 2516 \nPasscode: 504066 \n  \nJoin by Phone: \n\n888 788 0099 US Toll-free\n877 853 5247 US Toll-free\n\nMeeting ID: 818 5445 2516 \nPasscode: 504066
URL:https://www.glwater.org/event/legal-committee-95/
LOCATION:Zoom Telephonic
CATEGORIES:Legal Committee
END:VEVENT
END:VCALENDAR