BEGIN:VCALENDAR
VERSION:2.0
PRODID:-//GLWA - ECPv6.15.20//NONSGML v1.0//EN
CALSCALE:GREGORIAN
METHOD:PUBLISH
X-ORIGINAL-URL:https://www.glwater.org
X-WR-CALDESC:Events for GLWA
REFRESH-INTERVAL;VALUE=DURATION:PT1H
X-Robots-Tag:noindex
X-PUBLISHED-TTL:PT1H
BEGIN:VTIMEZONE
TZID:America/Halifax
BEGIN:DAYLIGHT
TZOFFSETFROM:-0400
TZOFFSETTO:-0300
TZNAME:ADT
DTSTART:20200308T060000
END:DAYLIGHT
BEGIN:STANDARD
TZOFFSETFROM:-0300
TZOFFSETTO:-0400
TZNAME:AST
DTSTART:20201101T050000
END:STANDARD
BEGIN:DAYLIGHT
TZOFFSETFROM:-0400
TZOFFSETTO:-0300
TZNAME:ADT
DTSTART:20210314T060000
END:DAYLIGHT
BEGIN:STANDARD
TZOFFSETFROM:-0300
TZOFFSETTO:-0400
TZNAME:AST
DTSTART:20211107T050000
END:STANDARD
BEGIN:DAYLIGHT
TZOFFSETFROM:-0400
TZOFFSETTO:-0300
TZNAME:ADT
DTSTART:20220313T060000
END:DAYLIGHT
BEGIN:STANDARD
TZOFFSETFROM:-0300
TZOFFSETTO:-0400
TZNAME:AST
DTSTART:20221106T050000
END:STANDARD
END:VTIMEZONE
BEGIN:VEVENT
DTSTART;TZID=America/Halifax:20211118T120000
DTEND;TZID=America/Halifax:20211118T130000
DTSTAMP:20260422T075330
CREATED:20201218T195440Z
LAST-MODIFIED:20211116T005003Z
UID:3693-1637236800-1637240400@www.glwater.org
SUMMARY:Legal Committee
DESCRIPTION:Zoom Telephonic \n  \nClick Here to View Agenda: \nJoin Zoom Meeting: \nMeeting ID: 872 2102 6851 \nPasscode: 764112 \n  \nJoin By Phone: \n888 788 0099 US Toll-free \n877 853 5247 US Toll-free \nMeeting ID: 872 2102 6851 \nPasscode: 764112 \n  \n 
URL:https://www.glwater.org/event/legal-committee-36/
LOCATION:Telephonic\, MI\, United States
CATEGORIES:Legal Committee
END:VEVENT
END:VCALENDAR