BEGIN:VCALENDAR
VERSION:2.0
PRODID:-//GLWA - ECPv6.15.20//NONSGML v1.0//EN
CALSCALE:GREGORIAN
METHOD:PUBLISH
X-ORIGINAL-URL:https://www.glwater.org
X-WR-CALDESC:Events for GLWA
REFRESH-INTERVAL;VALUE=DURATION:PT1H
X-Robots-Tag:noindex
X-PUBLISHED-TTL:PT1H
BEGIN:VTIMEZONE
TZID:America/Halifax
BEGIN:DAYLIGHT
TZOFFSETFROM:-0400
TZOFFSETTO:-0300
TZNAME:ADT
DTSTART:20210314T060000
END:DAYLIGHT
BEGIN:STANDARD
TZOFFSETFROM:-0300
TZOFFSETTO:-0400
TZNAME:AST
DTSTART:20211107T050000
END:STANDARD
BEGIN:DAYLIGHT
TZOFFSETFROM:-0400
TZOFFSETTO:-0300
TZNAME:ADT
DTSTART:20220313T060000
END:DAYLIGHT
BEGIN:STANDARD
TZOFFSETFROM:-0300
TZOFFSETTO:-0400
TZNAME:AST
DTSTART:20221106T050000
END:STANDARD
BEGIN:DAYLIGHT
TZOFFSETFROM:-0400
TZOFFSETTO:-0300
TZNAME:ADT
DTSTART:20230312T060000
END:DAYLIGHT
BEGIN:STANDARD
TZOFFSETFROM:-0300
TZOFFSETTO:-0400
TZNAME:AST
DTSTART:20231105T050000
END:STANDARD
END:VTIMEZONE
BEGIN:VEVENT
DTSTART;TZID=America/Halifax:20220112T130000
DTEND;TZID=America/Halifax:20220112T170000
DTSTAMP:20260425T152046
CREATED:20211214T171339Z
LAST-MODIFIED:20220107T183559Z
UID:4552-1641992400-1642006800@www.glwater.org
SUMMARY:Board of Directors Workshop - Cancelled
DESCRIPTION:Click Here to View Agenda: \n  \nJoin Zoom Meeting: \nMeeting ID: 850 9315 8709 \nPasscode: 565353 \n  \nJoin By Phone: \n888 788 0099 US Toll-free \n877 853 5247 US Toll-free \nMeeting ID: 850 9315 8709 \nPasscode: 565353
URL:https://www.glwater.org/event/board-of-directors-workshop-39/
LOCATION:Zoom Telephonic
CATEGORIES:Board of Directors
END:VEVENT
BEGIN:VEVENT
DTSTART;TZID=America/Halifax:20220126T140000
DTEND;TZID=America/Halifax:20220126T180000
DTSTAMP:20260425T152046
CREATED:20211214T171717Z
LAST-MODIFIED:20220128T172614Z
UID:4554-1643205600-1643220000@www.glwater.org
SUMMARY:Board of Directors
DESCRIPTION:This meeting will be held in the Water Board Building\, 735 Randolph\, 5th Floor Board Room\, Detroit\, Michigan 48226 \n(Subject to Available Capacity) \nand Zoom Telephonic \n  \nClick Here to View Agenda: \n  \nJoin Zoom Meeting: \nMeeting ID: 832 4747 9403 \nPasscode: 652275 \n  \nJoin By Phone: \n888 788 0099 US Toll-free \n877 853 5247 US Toll-free \nMeeting ID: 832 4747 9403 \nPasscode: 652275
URL:https://www.glwater.org/event/board-of-directors-48/
LOCATION:Water Board Building\, 5th Floor Board Room and Zoom Telephonic\, 735 Randolph\, Detroit\, MI\, 48226
CATEGORIES:Board of Directors
END:VEVENT
END:VCALENDAR