BEGIN:VCALENDAR
VERSION:2.0
PRODID:-//GLWA - ECPv6.15.20//NONSGML v1.0//EN
CALSCALE:GREGORIAN
METHOD:PUBLISH
X-ORIGINAL-URL:https://www.glwater.org
X-WR-CALDESC:Events for GLWA
REFRESH-INTERVAL;VALUE=DURATION:PT1H
X-Robots-Tag:noindex
X-PUBLISHED-TTL:PT1H
BEGIN:VTIMEZONE
TZID:America/Halifax
BEGIN:DAYLIGHT
TZOFFSETFROM:-0400
TZOFFSETTO:-0300
TZNAME:ADT
DTSTART:20200308T060000
END:DAYLIGHT
BEGIN:STANDARD
TZOFFSETFROM:-0300
TZOFFSETTO:-0400
TZNAME:AST
DTSTART:20201101T050000
END:STANDARD
BEGIN:DAYLIGHT
TZOFFSETFROM:-0400
TZOFFSETTO:-0300
TZNAME:ADT
DTSTART:20210314T060000
END:DAYLIGHT
BEGIN:STANDARD
TZOFFSETFROM:-0300
TZOFFSETTO:-0400
TZNAME:AST
DTSTART:20211107T050000
END:STANDARD
BEGIN:DAYLIGHT
TZOFFSETFROM:-0400
TZOFFSETTO:-0300
TZNAME:ADT
DTSTART:20220313T060000
END:DAYLIGHT
BEGIN:STANDARD
TZOFFSETFROM:-0300
TZOFFSETTO:-0400
TZNAME:AST
DTSTART:20221106T050000
END:STANDARD
END:VTIMEZONE
BEGIN:VEVENT
DTSTART;TZID=America/Halifax:20211007T120000
DTEND;TZID=America/Halifax:20211007T140000
DTSTAMP:20260425T104254
CREATED:20210923T210429Z
LAST-MODIFIED:20211006T122323Z
UID:4340-1633608000-1633615200@www.glwater.org
SUMMARY:Board of Directors Special Meeting
DESCRIPTION:Click Here to View the Agenda: \n  \nZoom Telephonic \nJoin Zoom Meeting: \nMeeting ID: 832 4824 0678 \nPasscode: 834511 \n  \nJoin By Phone: \n877 853 5247 US Toll-free \n888 788 0099 US Toll-free \nMeeting ID: 832 4824 0678 \nPasscode: 834511 \n 
URL:https://www.glwater.org/event/board-of-directors-special-meeting/
LOCATION:MI
CATEGORIES:Board of Directors
END:VEVENT
BEGIN:VEVENT
DTSTART;TZID=America/Halifax:20211013T130000
DTEND;TZID=America/Halifax:20211013T150000
DTSTAMP:20260425T104254
CREATED:20201218T192037Z
LAST-MODIFIED:20211007T200612Z
UID:3660-1634130000-1634137200@www.glwater.org
SUMMARY:Board of Directors Workshop - Cancelled
DESCRIPTION:  \n 
URL:https://www.glwater.org/event/board-of-directors-workshop-36/
LOCATION:Zoom Telephonic
CATEGORIES:Board of Directors
END:VEVENT
BEGIN:VEVENT
DTSTART;TZID=America/Halifax:20211027T140000
DTEND;TZID=America/Halifax:20211027T160000
DTSTAMP:20260425T104254
CREATED:20201218T192151Z
LAST-MODIFIED:20211025T203007Z
UID:3662-1635343200-1635350400@www.glwater.org
SUMMARY:Board of Directors
DESCRIPTION:Zoom Telephonic \n  \nClick Here to View Agenda: \nJoin Zoom Meeting: \nMeeting ID: 876 1263 7239 \nPasscode: 302815 \n  \nJoin By Phone: \n888 788 0099 US Toll-free \n877 853 5247 US Toll-free \nMeeting ID: 876 1263 7239 \nPasscode: 302815
URL:https://www.glwater.org/event/board-of-directors-46/
LOCATION:Zoom Telephonic
CATEGORIES:Board of Directors
END:VEVENT
END:VCALENDAR