BEGIN:VCALENDAR
VERSION:2.0
PRODID:-//GLWA - ECPv6.15.20//NONSGML v1.0//EN
CALSCALE:GREGORIAN
METHOD:PUBLISH
X-ORIGINAL-URL:https://www.glwater.org
X-WR-CALDESC:Events for GLWA
REFRESH-INTERVAL;VALUE=DURATION:PT1H
X-Robots-Tag:noindex
X-PUBLISHED-TTL:PT1H
BEGIN:VTIMEZONE
TZID:America/Halifax
BEGIN:DAYLIGHT
TZOFFSETFROM:-0400
TZOFFSETTO:-0300
TZNAME:ADT
DTSTART:20200308T060000
END:DAYLIGHT
BEGIN:STANDARD
TZOFFSETFROM:-0300
TZOFFSETTO:-0400
TZNAME:AST
DTSTART:20201101T050000
END:STANDARD
BEGIN:DAYLIGHT
TZOFFSETFROM:-0400
TZOFFSETTO:-0300
TZNAME:ADT
DTSTART:20210314T060000
END:DAYLIGHT
BEGIN:STANDARD
TZOFFSETFROM:-0300
TZOFFSETTO:-0400
TZNAME:AST
DTSTART:20211107T050000
END:STANDARD
BEGIN:DAYLIGHT
TZOFFSETFROM:-0400
TZOFFSETTO:-0300
TZNAME:ADT
DTSTART:20220313T060000
END:DAYLIGHT
BEGIN:STANDARD
TZOFFSETFROM:-0300
TZOFFSETTO:-0400
TZNAME:AST
DTSTART:20221106T050000
END:STANDARD
END:VTIMEZONE
BEGIN:VEVENT
DTSTART;TZID=America/Halifax:20210811T130000
DTEND;TZID=America/Halifax:20210811T150000
DTSTAMP:20260425T072403
CREATED:20201218T191033Z
LAST-MODIFIED:20210811T144429Z
UID:3653-1628686800-1628694000@www.glwater.org
SUMMARY:Board of Directors Workshop
DESCRIPTION:Click Here to View the Agenda: \nMeeting will be held at: \nRenaissance High School – Auditorium \n6565 W. Outer Drive \nDetroit\, MI 48235
URL:https://www.glwater.org/event/board-of-directors-workshop-34/
LOCATION:MI
CATEGORIES:Board of Directors
END:VEVENT
BEGIN:VEVENT
DTSTART;TZID=America/Halifax:20210825T140000
DTEND;TZID=America/Halifax:20210825T160000
DTSTAMP:20260425T072403
CREATED:20201218T191706Z
LAST-MODIFIED:20210818T141640Z
UID:3654-1629900000-1629907200@www.glwater.org
SUMMARY:Board of Directors - Cancelled
DESCRIPTION:
URL:https://www.glwater.org/event/board-of-directors-44/
LOCATION:Zoom Telephonic
CATEGORIES:Board of Directors
END:VEVENT
END:VCALENDAR