BEGIN:VCALENDAR
VERSION:2.0
PRODID:-//GLWA - ECPv6.15.20//NONSGML v1.0//EN
CALSCALE:GREGORIAN
METHOD:PUBLISH
X-WR-CALNAME:GLWA
X-ORIGINAL-URL:https://www.glwater.org
X-WR-CALDESC:Events for GLWA
REFRESH-INTERVAL;VALUE=DURATION:PT1H
X-Robots-Tag:noindex
X-PUBLISHED-TTL:PT1H
BEGIN:VTIMEZONE
TZID:America/Halifax
BEGIN:DAYLIGHT
TZOFFSETFROM:-0400
TZOFFSETTO:-0300
TZNAME:ADT
DTSTART:20200308T060000
END:DAYLIGHT
BEGIN:STANDARD
TZOFFSETFROM:-0300
TZOFFSETTO:-0400
TZNAME:AST
DTSTART:20201101T050000
END:STANDARD
BEGIN:DAYLIGHT
TZOFFSETFROM:-0400
TZOFFSETTO:-0300
TZNAME:ADT
DTSTART:20210314T060000
END:DAYLIGHT
BEGIN:STANDARD
TZOFFSETFROM:-0300
TZOFFSETTO:-0400
TZNAME:AST
DTSTART:20211107T050000
END:STANDARD
BEGIN:DAYLIGHT
TZOFFSETFROM:-0400
TZOFFSETTO:-0300
TZNAME:ADT
DTSTART:20220313T060000
END:DAYLIGHT
BEGIN:STANDARD
TZOFFSETFROM:-0300
TZOFFSETTO:-0400
TZNAME:AST
DTSTART:20221106T050000
END:STANDARD
END:VTIMEZONE
BEGIN:VEVENT
DTSTART;TZID=America/Halifax:20210714T130000
DTEND;TZID=America/Halifax:20210714T150000
DTSTAMP:20260421T073748
CREATED:20201218T190813Z
LAST-MODIFIED:20210712T203332Z
UID:3649-1626267600-1626274800@www.glwater.org
SUMMARY:Board of Directors Workshop
DESCRIPTION:Click Here to View Agenda:
URL:https://www.glwater.org/event/board-of-directors-workshop-33/
LOCATION:Telephonic\, MI\, United States
CATEGORIES:Board of Directors
END:VEVENT
BEGIN:VEVENT
DTSTART;TZID=America/Halifax:20210721T100000
DTEND;TZID=America/Halifax:20210721T120000
DTSTAMP:20260421T073748
CREATED:20210719T204657Z
LAST-MODIFIED:20210720T143255Z
UID:4170-1626861600-1626868800@www.glwater.org
SUMMARY:Ad Hoc Storm Committee
DESCRIPTION:Click Here to View Agenda: \nPublic Call-In Number:    877 853 5247 US Toll-Free; or \n                                                 888 788 0099 US Toll-Free \nJoin Zoom Meeting: \nMeeting ID:                          880 1567 8142 \nPasscode:                             140143 \n 
URL:https://www.glwater.org/event/ad-hoc-storm-committee/
LOCATION:Zoom Telephonic
CATEGORIES:Board of Directors
END:VEVENT
BEGIN:VEVENT
DTSTART;TZID=America/Halifax:20210726T130000
DTEND;TZID=America/Halifax:20210726T160000
DTSTAMP:20260421T073748
CREATED:20210721T184846Z
LAST-MODIFIED:20210723T210916Z
UID:4189-1627304400-1627315200@www.glwater.org
SUMMARY:Ad Hoc Storm Committee
DESCRIPTION:Click Here to View Agenda: \nPublic Call-In Numbers:  877 853 5247 US Toll-Free; or \n888 788 0099 US Toll-Free \nMeeting ID:  892 6189 7680 \nPasscode:  813213 \nJoin Zoom Meeting Here: \n 
URL:https://www.glwater.org/event/ad-hoc-storm-committee-2/
LOCATION:Zoom Telephonic
CATEGORIES:Board of Directors
END:VEVENT
BEGIN:VEVENT
DTSTART;TZID=America/Halifax:20210728T140000
DTEND;TZID=America/Halifax:20210728T160000
DTSTAMP:20260421T073748
CREATED:20201218T190923Z
LAST-MODIFIED:20210726T231244Z
UID:3651-1627480800-1627488000@www.glwater.org
SUMMARY:Board of Directors
DESCRIPTION:Public Call-In Number:  \n877 853 5247 US Toll-free \n888 788 0099 US Toll-free \nMeeting ID: 879 1636 9436 \nClick Here to View the Agenda: \n  \nJoin Zoom Meeting: \nMeeting ID: 879 1636 9436 \nPasscode: 083328
URL:https://www.glwater.org/event/board-of-directors-43/
LOCATION:Zoom Telephonic
CATEGORIES:Board of Directors
END:VEVENT
END:VCALENDAR