BEGIN:VCALENDAR
VERSION:2.0
PRODID:-//GLWA - ECPv6.15.20//NONSGML v1.0//EN
CALSCALE:GREGORIAN
METHOD:PUBLISH
X-WR-CALNAME:GLWA
X-ORIGINAL-URL:https://www.glwater.org
X-WR-CALDESC:Events for GLWA
REFRESH-INTERVAL;VALUE=DURATION:PT1H
X-Robots-Tag:noindex
X-PUBLISHED-TTL:PT1H
BEGIN:VTIMEZONE
TZID:America/Halifax
BEGIN:DAYLIGHT
TZOFFSETFROM:-0400
TZOFFSETTO:-0300
TZNAME:ADT
DTSTART:20200308T060000
END:DAYLIGHT
BEGIN:STANDARD
TZOFFSETFROM:-0300
TZOFFSETTO:-0400
TZNAME:AST
DTSTART:20201101T050000
END:STANDARD
BEGIN:DAYLIGHT
TZOFFSETFROM:-0400
TZOFFSETTO:-0300
TZNAME:ADT
DTSTART:20210314T060000
END:DAYLIGHT
BEGIN:STANDARD
TZOFFSETFROM:-0300
TZOFFSETTO:-0400
TZNAME:AST
DTSTART:20211107T050000
END:STANDARD
BEGIN:DAYLIGHT
TZOFFSETFROM:-0400
TZOFFSETTO:-0300
TZNAME:ADT
DTSTART:20220313T060000
END:DAYLIGHT
BEGIN:STANDARD
TZOFFSETFROM:-0300
TZOFFSETTO:-0400
TZNAME:AST
DTSTART:20221106T050000
END:STANDARD
END:VTIMEZONE
BEGIN:VEVENT
DTSTART;TZID=America/Halifax:20210512T130000
DTEND;TZID=America/Halifax:20210512T150000
DTSTAMP:20260421T103844
CREATED:20201218T185718Z
LAST-MODIFIED:20210505T150411Z
UID:3641-1620824400-1620831600@www.glwater.org
SUMMARY:Board of Directors Workshop - Cancelled
DESCRIPTION:
URL:https://www.glwater.org/event/board-of-directors-workshop-31/
LOCATION:Telephonic\, MI\, United States
CATEGORIES:Board of Directors
END:VEVENT
BEGIN:VEVENT
DTSTART;TZID=America/Halifax:20210526T140000
DTEND;TZID=America/Halifax:20210526T160000
DTSTAMP:20260421T103844
CREATED:20201218T185833Z
LAST-MODIFIED:20210524T212048Z
UID:3643-1622037600-1622044800@www.glwater.org
SUMMARY:Board of Directors Meeting and Public Hearings Regarding Connors Creek Sewer System Rehabilitation FY 2022 State Revolving Fund (SRF) Project and Wastewater Conveyance System FY 2022 State Revolving Fund (SRF) Projects
DESCRIPTION:Click Here to View Agenda:
URL:https://www.glwater.org/event/board-of-directors-41/
LOCATION:Telephonic\, MI\, United States
CATEGORIES:Board of Directors
END:VEVENT
END:VCALENDAR