BEGIN:VCALENDAR
VERSION:2.0
PRODID:-//GLWA - ECPv6.15.20//NONSGML v1.0//EN
CALSCALE:GREGORIAN
METHOD:PUBLISH
X-ORIGINAL-URL:https://www.glwater.org
X-WR-CALDESC:Events for GLWA
REFRESH-INTERVAL;VALUE=DURATION:PT1H
X-Robots-Tag:noindex
X-PUBLISHED-TTL:PT1H
BEGIN:VTIMEZONE
TZID:America/Halifax
BEGIN:DAYLIGHT
TZOFFSETFROM:-0400
TZOFFSETTO:-0300
TZNAME:ADT
DTSTART:20200308T060000
END:DAYLIGHT
BEGIN:STANDARD
TZOFFSETFROM:-0300
TZOFFSETTO:-0400
TZNAME:AST
DTSTART:20201101T050000
END:STANDARD
BEGIN:DAYLIGHT
TZOFFSETFROM:-0400
TZOFFSETTO:-0300
TZNAME:ADT
DTSTART:20210314T060000
END:DAYLIGHT
BEGIN:STANDARD
TZOFFSETFROM:-0300
TZOFFSETTO:-0400
TZNAME:AST
DTSTART:20211107T050000
END:STANDARD
BEGIN:DAYLIGHT
TZOFFSETFROM:-0400
TZOFFSETTO:-0300
TZNAME:ADT
DTSTART:20220313T060000
END:DAYLIGHT
BEGIN:STANDARD
TZOFFSETFROM:-0300
TZOFFSETTO:-0400
TZNAME:AST
DTSTART:20221106T050000
END:STANDARD
END:VTIMEZONE
BEGIN:VEVENT
DTSTART;TZID=America/Halifax:20210210T130000
DTEND;TZID=America/Halifax:20210210T150000
DTSTAMP:20260421T083202
CREATED:20201218T183151Z
LAST-MODIFIED:20210203T210627Z
UID:3626-1612962000-1612969200@www.glwater.org
SUMMARY:Board of Directors Workshop Meeting - Cancelled
DESCRIPTION:
URL:https://www.glwater.org/event/board-of-directors-workshop-meeting-3/
LOCATION:Telephonic\, MI\, United States
CATEGORIES:Board of Directors
END:VEVENT
BEGIN:VEVENT
DTSTART;TZID=America/Halifax:20210224T140000
DTEND;TZID=America/Halifax:20210224T160000
DTSTAMP:20260421T083202
CREATED:20201218T183328Z
LAST-MODIFIED:20201218T202301Z
UID:3628-1614175200-1614182400@www.glwater.org
SUMMARY:Board of Directors
DESCRIPTION:
URL:https://www.glwater.org/event/board-of-directors-38/
LOCATION:Telephonic\, MI\, United States
CATEGORIES:Board of Directors
END:VEVENT
END:VCALENDAR